BEGIN:VCALENDAR
VERSION:2.0
PRODID:-//Downtown Indiana - ECPv6.15.20//NONSGML v1.0//EN
CALSCALE:GREGORIAN
METHOD:PUBLISH
X-WR-CALNAME:Downtown Indiana
X-ORIGINAL-URL:https://downtownindianapa.org
X-WR-CALDESC:Events for Downtown Indiana
REFRESH-INTERVAL;VALUE=DURATION:PT1H
X-Robots-Tag:noindex
X-PUBLISHED-TTL:PT1H
BEGIN:VTIMEZONE
TZID:America/New_York
BEGIN:DAYLIGHT
TZOFFSETFROM:-0500
TZOFFSETTO:-0400
TZNAME:EDT
DTSTART:20250309T070000
END:DAYLIGHT
BEGIN:STANDARD
TZOFFSETFROM:-0400
TZOFFSETTO:-0500
TZNAME:EST
DTSTART:20251102T060000
END:STANDARD
BEGIN:DAYLIGHT
TZOFFSETFROM:-0500
TZOFFSETTO:-0400
TZNAME:EDT
DTSTART:20260308T070000
END:DAYLIGHT
BEGIN:STANDARD
TZOFFSETFROM:-0400
TZOFFSETTO:-0500
TZNAME:EST
DTSTART:20261101T060000
END:STANDARD
BEGIN:DAYLIGHT
TZOFFSETFROM:-0500
TZOFFSETTO:-0400
TZNAME:EDT
DTSTART:20270314T070000
END:DAYLIGHT
BEGIN:STANDARD
TZOFFSETFROM:-0400
TZOFFSETTO:-0500
TZNAME:EST
DTSTART:20271107T060000
END:STANDARD
END:VTIMEZONE
BEGIN:VEVENT
DTSTART;TZID=America/New_York:20260709T170000
DTEND;TZID=America/New_York:20260709T200000
DTSTAMP:20260424T024551
CREATED:20250411T204321Z
LAST-MODIFIED:20260113T190154Z
UID:10000027-1783616400-1783627200@downtownindianapa.org
SUMMARY:Taste & Tour
DESCRIPTION:Get ready to sip\, sample\, and stroll your way through the heart of Indiana! The Downtown Indiana Taste & Tour\, presented by First Commonwealth Bank\, is your ticket to experiencing the best of our local culinary scene. \nFor just $30\, enjoy a self-guided tasting tour of Downtown Indiana’s finest restaurants\, cafes\, and eateries. Each stop along the way offers a delicious sample of signature dishes\, sweet treats\, or unique bites – all crafted by the talented chefs and food artisans right here in our community.  Each participant gets the opportunity to vote for their favorite dishes and drinks in a variety of categories.  We wrap up with music and raffle prizes in the FCB lawn (corner of 6th/Philadelphia St.) \nWhether you’re a foodie\, a local supporter\, or just looking for a fun evening out\, this event offers a flavorful experience with every step. \n🎟️ Tickets are available at Lucy Rae Gifts & more and the Indiana County Tourist Bureau or online.
URL:https://downtownindianapa.org/event/taste-tour/
LOCATION:FCB Lawn\, 6th Street\, Indiana\, PA\, 15701\, United States
CATEGORIES:Food Events,Fundraiser Events
ATTACH;FMTTYPE=image/png:https://downtownindianapa.org/wp-content/uploads/2025/04/TasteTour_FBEventCover-01.png
END:VEVENT
BEGIN:VEVENT
DTSTART;TZID=America/New_York:20260725T080000
DTEND;TZID=America/New_York:20260725T223000
DTSTAMP:20260424T024551
CREATED:20250321T153302Z
LAST-MODIFIED:20260113T190604Z
UID:10000018-1784966400-1785018600@downtownindianapa.org
SUMMARY:"It's A Wonderful Life" 5K and Christmas in July Festival
DESCRIPTION:Join us for the second annual “It’s A Wonderful Life” 5K & Christmas in July Festival on Saturday\, July 12 at Mytrysak Family Tree Farm.\n\nA Downtown Indiana event sponsored by Mytrysak Family Tree Farm & Greenhouse and in collaboration with the Indiana County Tourist Bureau and Historical & Genealogical Society of Indiana County.\n\nDetails coming soon!
URL:https://downtownindianapa.org/event/iawl-5k-christmas-in-july/
LOCATION:Mytrysak Family Tree Farm and Greenhouse\, 1803 Fleming Road\, Indiana\, PA\, 15701\, United States
CATEGORIES:Food Events,Fundraiser Events,Music Events,Seasonal Events
ATTACH;FMTTYPE=image/png:https://downtownindianapa.org/wp-content/uploads/2025/03/IAWL5kXmasJuly__FB-Event.png
END:VEVENT
END:VCALENDAR